BEGIN:VCALENDAR
VERSION:2.0
PRODID:-//I-49 Lafayette Connector - ECPv6.15.20//NONSGML v1.0//EN
CALSCALE:GREGORIAN
METHOD:PUBLISH
X-ORIGINAL-URL:https://lafayetteconnector.com
X-WR-CALDESC:Events for I-49 Lafayette Connector
REFRESH-INTERVAL;VALUE=DURATION:PT1H
X-Robots-Tag:noindex
X-PUBLISHED-TTL:PT1H
BEGIN:VTIMEZONE
TZID:America/Chicago
BEGIN:DAYLIGHT
TZOFFSETFROM:-0600
TZOFFSETTO:-0500
TZNAME:CDT
DTSTART:20160313T080000
END:DAYLIGHT
BEGIN:STANDARD
TZOFFSETFROM:-0500
TZOFFSETTO:-0600
TZNAME:CST
DTSTART:20161106T070000
END:STANDARD
BEGIN:DAYLIGHT
TZOFFSETFROM:-0600
TZOFFSETTO:-0500
TZNAME:CDT
DTSTART:20170312T080000
END:DAYLIGHT
BEGIN:STANDARD
TZOFFSETFROM:-0500
TZOFFSETTO:-0600
TZNAME:CST
DTSTART:20171105T070000
END:STANDARD
BEGIN:DAYLIGHT
TZOFFSETFROM:-0600
TZOFFSETTO:-0500
TZNAME:CDT
DTSTART:20180311T080000
END:DAYLIGHT
BEGIN:STANDARD
TZOFFSETFROM:-0500
TZOFFSETTO:-0600
TZNAME:CST
DTSTART:20181104T070000
END:STANDARD
BEGIN:DAYLIGHT
TZOFFSETFROM:-0600
TZOFFSETTO:-0500
TZNAME:CDT
DTSTART:20190310T080000
END:DAYLIGHT
BEGIN:STANDARD
TZOFFSETFROM:-0500
TZOFFSETTO:-0600
TZNAME:CST
DTSTART:20191103T070000
END:STANDARD
BEGIN:DAYLIGHT
TZOFFSETFROM:-0600
TZOFFSETTO:-0500
TZNAME:CDT
DTSTART:20200308T080000
END:DAYLIGHT
BEGIN:STANDARD
TZOFFSETFROM:-0500
TZOFFSETTO:-0600
TZNAME:CST
DTSTART:20201101T070000
END:STANDARD
BEGIN:DAYLIGHT
TZOFFSETFROM:-0600
TZOFFSETTO:-0500
TZNAME:CDT
DTSTART:20210314T080000
END:DAYLIGHT
BEGIN:STANDARD
TZOFFSETFROM:-0500
TZOFFSETTO:-0600
TZNAME:CST
DTSTART:20211107T070000
END:STANDARD
BEGIN:DAYLIGHT
TZOFFSETFROM:-0600
TZOFFSETTO:-0500
TZNAME:CDT
DTSTART:20220313T080000
END:DAYLIGHT
BEGIN:STANDARD
TZOFFSETFROM:-0500
TZOFFSETTO:-0600
TZNAME:CST
DTSTART:20221106T070000
END:STANDARD
END:VTIMEZONE
BEGIN:VTIMEZONE
TZID:America/North_Dakota/Center
BEGIN:DAYLIGHT
TZOFFSETFROM:-0600
TZOFFSETTO:-0500
TZNAME:CDT
DTSTART:20160313T080000
END:DAYLIGHT
BEGIN:STANDARD
TZOFFSETFROM:-0500
TZOFFSETTO:-0600
TZNAME:CST
DTSTART:20161106T070000
END:STANDARD
BEGIN:DAYLIGHT
TZOFFSETFROM:-0600
TZOFFSETTO:-0500
TZNAME:CDT
DTSTART:20170312T080000
END:DAYLIGHT
BEGIN:STANDARD
TZOFFSETFROM:-0500
TZOFFSETTO:-0600
TZNAME:CST
DTSTART:20171105T070000
END:STANDARD
BEGIN:DAYLIGHT
TZOFFSETFROM:-0600
TZOFFSETTO:-0500
TZNAME:CDT
DTSTART:20180311T080000
END:DAYLIGHT
BEGIN:STANDARD
TZOFFSETFROM:-0500
TZOFFSETTO:-0600
TZNAME:CST
DTSTART:20181104T070000
END:STANDARD
BEGIN:DAYLIGHT
TZOFFSETFROM:-0600
TZOFFSETTO:-0500
TZNAME:CDT
DTSTART:20190310T080000
END:DAYLIGHT
BEGIN:STANDARD
TZOFFSETFROM:-0500
TZOFFSETTO:-0600
TZNAME:CST
DTSTART:20191103T070000
END:STANDARD
BEGIN:DAYLIGHT
TZOFFSETFROM:-0600
TZOFFSETTO:-0500
TZNAME:CDT
DTSTART:20200308T080000
END:DAYLIGHT
BEGIN:STANDARD
TZOFFSETFROM:-0500
TZOFFSETTO:-0600
TZNAME:CST
DTSTART:20201101T070000
END:STANDARD
BEGIN:DAYLIGHT
TZOFFSETFROM:-0600
TZOFFSETTO:-0500
TZNAME:CDT
DTSTART:20210314T080000
END:DAYLIGHT
BEGIN:STANDARD
TZOFFSETFROM:-0500
TZOFFSETTO:-0600
TZNAME:CST
DTSTART:20211107T070000
END:STANDARD
BEGIN:DAYLIGHT
TZOFFSETFROM:-0600
TZOFFSETTO:-0500
TZNAME:CDT
DTSTART:20220313T080000
END:DAYLIGHT
BEGIN:STANDARD
TZOFFSETFROM:-0500
TZOFFSETTO:-0600
TZNAME:CST
DTSTART:20221106T070000
END:STANDARD
END:VTIMEZONE
BEGIN:VEVENT
DTSTART;TZID=America/Chicago:20210421T163000
DTEND;TZID=America/Chicago:20210421T180000
DTSTAMP:20260420T042324
CREATED:20210331T212301Z
LAST-MODIFIED:20210405T213530Z
UID:10000465-1619022600-1619028000@lafayetteconnector.com
SUMMARY:Freetown-Port Rico Neighborhood Meeting #1B
DESCRIPTION:This meeting is open to only residents of the Freetown-Port Rico neighborhood. Members of other neighborhoods and the public will be invited to attend and provide input at future public meetings. \nPlease sign up to attend this meeting by completing the Neighborhood Meeting Sign-Up form.
URL:https://lafayetteconnector.com/event/freetown-port-rico-neighborhood-meeting-1b/
LOCATION:Rosa Parks Transportation Center\, 101 Jefferson Street\, Lafayette\, LA\, 70501\, United States
CATEGORIES:Upcoming Events
GEO:30.2265078;-92.0150064
X-APPLE-STRUCTURED-LOCATION;VALUE=URI;X-ADDRESS=Rosa Parks Transportation Center 101 Jefferson Street Lafayette LA 70501 United States;X-APPLE-RADIUS=500;X-TITLE=101 Jefferson Street:geo:-92.0150064,30.2265078
END:VEVENT
BEGIN:VEVENT
DTSTART;TZID=America/North_Dakota/Center:20210420T103000
DTEND;TZID=America/North_Dakota/Center:20210420T120000
DTSTAMP:20260420T042324
CREATED:20210311T223834Z
LAST-MODIFIED:20210401T222810Z
UID:10000535-1618914600-1618920000@lafayetteconnector.com
SUMMARY:Freetown-Port Rico Neighborhood Meeting #1A
DESCRIPTION:This meeting is open to only residents of the Freetown-Port Rico neighborhood. Members of other neighborhoods and the public will be invited to attend and provide input at future public meetings. \nPlease sign up to attend this meeting by completing the Neighborhood Meeting Sign-Up form.
URL:https://lafayetteconnector.com/event/freetown-port-rico-neighborhood-meeting-1a/
LOCATION:Rosa Parks Transportation Center\, 101 Jefferson Street\, Lafayette\, LA\, 70501\, United States
CATEGORIES:Upcoming Events
GEO:30.2265078;-92.0150064
X-APPLE-STRUCTURED-LOCATION;VALUE=URI;X-ADDRESS=Rosa Parks Transportation Center 101 Jefferson Street Lafayette LA 70501 United States;X-APPLE-RADIUS=500;X-TITLE=101 Jefferson Street:geo:-92.0150064,30.2265078
END:VEVENT
BEGIN:VEVENT
DTSTART;TZID=America/North_Dakota/Center:20210417T120000
DTEND;TZID=America/North_Dakota/Center:20210417T150000
DTSTAMP:20260420T042324
CREATED:20210323T225205Z
LAST-MODIFIED:20210401T222755Z
UID:10000539-1618660800-1618671600@lafayetteconnector.com
SUMMARY:LaPlace Neighborhood Meeting #1B
DESCRIPTION:Representatives from Louisiana DOTD and Lafayette Connector Partners will be at Fightingville Fresh on Saturday\, April 17th to discuss the I-49 Lafayette Connector and to answer any questions you might have. Drop by our table at the farmer’s market to learn more!
URL:https://lafayetteconnector.com/event/laplace-neighborhood-meeting-1b/
LOCATION:Fightingville Fresh Farmer’s Market\, 315 W. Simcoe St.\, Lafayette\, LA\, 70501\, United States
CATEGORIES:Upcoming Events
END:VEVENT
BEGIN:VEVENT
DTSTART;TZID=America/North_Dakota/Center:20210415T120000
DTEND;TZID=America/North_Dakota/Center:20210415T130000
DTSTAMP:20260420T042324
CREATED:20210326T200417Z
LAST-MODIFIED:20210401T222742Z
UID:10000463-1618488000-1618491600@lafayetteconnector.com
SUMMARY:Kaliste Saloom Neighborhood Meeting #1B
DESCRIPTION:This meeting is open to only residents of the Kaliste Saloom area. Members of other neighborhoods and the public will be invited to attend and provide input at future public meetings. \nPlease sign up to attend this meeting by completing the Neighborhood Meeting Sign-Up form.
URL:https://lafayetteconnector.com/event/kaliste-saloom-neighborhood-meeting-1b/
LOCATION:Vermilionville Performance Center\, 300 Fisher Rd.\, Lafayette\, LA\, 70508\, United States
CATEGORIES:Upcoming Events
END:VEVENT
BEGIN:VEVENT
DTSTART;TZID=America/North_Dakota/Center:20210415T110000
DTEND;TZID=America/North_Dakota/Center:20210415T120000
DTSTAMP:20260420T042324
CREATED:20210326T200519Z
LAST-MODIFIED:20210401T222720Z
UID:10000464-1618484400-1618488000@lafayetteconnector.com
SUMMARY:Kaliste Saloom Neighborhood Meeting #1A
DESCRIPTION:This meeting is open to only residents of the Kaliste Saloom area. Members of other neighborhoods and the public will be invited to attend and provide input at future public meetings. \nPlease sign up to attend this meeting by completing the Neighborhood Meeting Sign-Up form.
URL:https://lafayetteconnector.com/event/kaliste-saloom-neighborhood-meeting-1a/
LOCATION:Vermilionville Performance Center\, 300 Fisher Rd.\, Lafayette\, LA\, 70508\, United States
CATEGORIES:Upcoming Events
END:VEVENT
BEGIN:VEVENT
DTSTART;TZID=America/North_Dakota/Center:20210414T170000
DTEND;TZID=America/North_Dakota/Center:20210414T180000
DTSTAMP:20260420T042324
CREATED:20210311T230957Z
LAST-MODIFIED:20210401T222707Z
UID:10000537-1618419600-1618423200@lafayetteconnector.com
SUMMARY:McComb-Veazey Neighborhood Meeting #1B
DESCRIPTION:This meeting is open to only residents of the McComb-Veazey neighborhood. Members of other neighborhoods and the public will be invited to attend and provide input at future public meetings. \nPlease sign up to attend this meeting by completing the Neighborhood Meeting Sign-Up form.
URL:https://lafayetteconnector.com/event/mccomb-veazey-neighborhood-meeting-1b/
LOCATION:LA
CATEGORIES:Upcoming Events
END:VEVENT
BEGIN:VEVENT
DTSTART;TZID=America/North_Dakota/Center:20210414T160000
DTEND;TZID=America/North_Dakota/Center:20210414T170000
DTSTAMP:20260420T042324
CREATED:20210323T225536Z
LAST-MODIFIED:20210401T222652Z
UID:10000462-1618416000-1618419600@lafayetteconnector.com
SUMMARY:Sterling Grove Neighborhood Meeting #1B
DESCRIPTION:This meeting is open to only residents of the Sterling Grove neighborhood. Members of other neighborhoods and the public will be invited to attend and provide input at future public meetings. \nPlease sign up to attend this meeting by completing the Neighborhood Meeting Sign-Up form.
URL:https://lafayetteconnector.com/event/sterling-grove-neighborhood-meeting-1b/
LOCATION:LA
CATEGORIES:Upcoming Events
END:VEVENT
BEGIN:VEVENT
DTSTART;TZID=America/North_Dakota/Center:20210413T183000
DTEND;TZID=America/North_Dakota/Center:20210413T193000
DTSTAMP:20260420T042324
CREATED:20210323T225355Z
LAST-MODIFIED:20210401T222632Z
UID:10000540-1618338600-1618342200@lafayetteconnector.com
SUMMARY:Sterling Grove Neighborhood Meeting #1A
DESCRIPTION:This meeting is open to only residents of the Sterling Grove neighborhood. Members of other neighborhoods and the public will be invited to attend and provide input at future public meetings. \nPlease sign up to attend this meeting by completing the Neighborhood Meeting Sign-Up form.
URL:https://lafayetteconnector.com/event/sterling-grove-neighborhood-meeting-1a/
LOCATION:LA
CATEGORIES:Upcoming Events
END:VEVENT
BEGIN:VEVENT
DTSTART;TZID=America/North_Dakota/Center:20210413T173000
DTEND;TZID=America/North_Dakota/Center:20210413T183000
DTSTAMP:20260420T042324
CREATED:20210311T230733Z
LAST-MODIFIED:20210401T222619Z
UID:10000536-1618335000-1618338600@lafayetteconnector.com
SUMMARY:McComb-Veazey Neighborhood Meeting #1A
DESCRIPTION:This meeting is open to only residents of the McComb-Veazey neighborhood. Members of other neighborhoods and the public will be invited to attend and provide input at future public meetings. \nPlease sign up to attend this meeting by completing the Neighborhood Meeting Sign-Up form.
URL:https://lafayetteconnector.com/event/mccomb-veazey-neighborhood-meeting-1a/
LOCATION:LA
CATEGORIES:Upcoming Events
END:VEVENT
BEGIN:VEVENT
DTSTART;TZID=America/North_Dakota/Center:20210413T150000
DTEND;TZID=America/North_Dakota/Center:20210413T170000
DTSTAMP:20260420T042324
CREATED:20210323T224936Z
LAST-MODIFIED:20210413T165115Z
UID:10000538-1618326000-1618333200@lafayetteconnector.com
SUMMARY:POSTPONED - LaPlace Neighborhood Meeting #1A
DESCRIPTION:UPDATE: Today’s neighborhood meeting at the Fightingville Fresh Farmer’s Market has been postponed due to the weather. LaPlace\, Fightingville and Townfolk residents will still have the opportunity to ask questions and provide input and feedback on the I-49 Lafayette Connector project at Fightingville Fresh this Saturday\, April 17th. Additional updates are to come. \nRepresentatives from Louisiana DOTD and Lafayette Connector Partners will be at Fightingville Fresh on Tuesday\, April 13th to discuss the I-49 Lafayette Connector and to answer any questions you might have. Drop by our table at the farmer’s market to learn more!
URL:https://lafayetteconnector.com/event/laplace-neighborhood-meeting-1a/
LOCATION:Fightingville Fresh Farmer’s Market\, 315 W. Simcoe St.\, Lafayette\, LA\, 70501\, United States
CATEGORIES:Upcoming Events
END:VEVENT
BEGIN:VEVENT
DTSTART;TZID=America/North_Dakota/Center:20210114T160000
DTEND;TZID=America/North_Dakota/Center:20210114T180000
DTSTAMP:20260420T042324
CREATED:20201218T152115Z
LAST-MODIFIED:20201222T203233Z
UID:10000534-1610640000-1610647200@lafayetteconnector.com
SUMMARY:LCAG Workshop #3: Meeting B
DESCRIPTION:The I-49 Lafayette Connector Advisory Group (LCAG) will be meeting remotely for the third Workshop Session. \nThis is a committee working meeting\, but if members of the public would like to attend in a listen-only manner\, please email info@lafayetteconnector.com to request the Online Meeting access information.
URL:https://lafayetteconnector.com/event/lcag-workshop-3-meeting-b/
LOCATION:LA
END:VEVENT
BEGIN:VEVENT
DTSTART;TZID=America/North_Dakota/Center:20201217T160000
DTEND;TZID=America/North_Dakota/Center:20201217T180000
DTSTAMP:20260420T042324
CREATED:20201208T232034Z
LAST-MODIFIED:20201218T151926Z
UID:10000533-1608220800-1608228000@lafayetteconnector.com
SUMMARY:LCAG Workshop #3: Meeting A
DESCRIPTION:The I-49 Lafayette Connector Advisory Group (LCAG) will be meeting remotely for the third Workshop Session. \nThis is a committee working meeting\, but if members of the public would like to attend in a listen-only manner\, please email info@lafayetteconnector.com to request the Online Meeting access information.
URL:https://lafayetteconnector.com/event/lcag-workshop-3/
LOCATION:Online Virtual Meeting – Zoom
END:VEVENT
BEGIN:VEVENT
DTSTART;TZID=America/North_Dakota/Center:20200923T160000
DTEND;TZID=America/North_Dakota/Center:20200923T180000
DTSTAMP:20260420T042324
CREATED:20200917T175158Z
LAST-MODIFIED:20200917T175158Z
UID:10000532-1600876800-1600884000@lafayetteconnector.com
SUMMARY:Section 106 Meeting #4
DESCRIPTION:How to Participate \nComputer Access: \nhttps://us02web.zoom.us/j/83862651880 \nMeeting ID: 838 6265 1880 \nBy Phone: \nDial by your location \n+1 929 205 6099 US (New York) \n+1 312 626 6799 US (Chicago) \n+1 669 900 6833 US (San Jose) \n+1 346 248 7799 US (Houston) \nMeeting ID: 838 6265 1880
URL:https://lafayetteconnector.com/event/section-106-meeting-4/
LOCATION:LA
END:VEVENT
BEGIN:VEVENT
DTSTART;TZID=America/North_Dakota/Center:20200917T160000
DTEND;TZID=America/North_Dakota/Center:20200917T180000
DTSTAMP:20260420T042324
CREATED:20200819T195358Z
LAST-MODIFIED:20200819T195358Z
UID:10000531-1600358400-1600365600@lafayetteconnector.com
SUMMARY:LCAG Workshop #2 – Day 2
DESCRIPTION:The I-49 Lafayette Connector Advisory Group (LCAG) will be meeting remotely for the second Workshop Session. \nThis is a committee working meeting\, but if members of the public would like to attend in a listen-only manner\, please email info@lafayetteconnector.com to request the Online Meeting access information.
URL:https://lafayetteconnector.com/event/lcag-workshop-2-day-2/
LOCATION:LA
END:VEVENT
BEGIN:VEVENT
DTSTART;TZID=America/North_Dakota/Center:20200909T160000
DTEND;TZID=America/North_Dakota/Center:20200909T180000
DTSTAMP:20260420T042324
CREATED:20200819T195133Z
LAST-MODIFIED:20200819T195133Z
UID:10000461-1599667200-1599674400@lafayetteconnector.com
SUMMARY:LCAG Workshop #2 – Day 1
DESCRIPTION:The I-49 Lafayette Connector Advisory Group (LCAG) will be meeting remotely for the second Workshop Session. \nThis is a committee working meeting\, but if members of the public would like to attend in a listen-only manner\, please email info@lafayetteconnector.com to request the Online Meeting access information.
URL:https://lafayetteconnector.com/event/lcag-workshop-2-day-1/
LOCATION:LA
END:VEVENT
BEGIN:VEVENT
DTSTART;TZID=America/North_Dakota/Center:20200730T160000
DTEND;TZID=America/North_Dakota/Center:20200730T180000
DTSTAMP:20260420T042324
CREATED:20200717T141405Z
LAST-MODIFIED:20200717T142748Z
UID:10000460-1596124800-1596132000@lafayetteconnector.com
SUMMARY:LCAG Workshop #1 - Day 2
DESCRIPTION:The I-49 Lafayette Connector Advisory Group (LCAG) will be meeting remotely for the first Workshop Session. \nThis is a committee working meeting\, but if members of the public would like to attend in a listen-only manner\, please email info@lafayetteconnector.com to request the Online Meeting access information.
URL:https://lafayetteconnector.com/event/lcag-workshop-1/
LOCATION:LA
CATEGORIES:Upcoming Events
END:VEVENT
BEGIN:VEVENT
DTSTART;TZID=America/North_Dakota/Center:20200728T160000
DTEND;TZID=America/North_Dakota/Center:20200728T180000
DTSTAMP:20260420T042324
CREATED:20200717T141228Z
LAST-MODIFIED:20200717T142545Z
UID:10000459-1595952000-1595959200@lafayetteconnector.com
SUMMARY:LCAG Workshop #1 - Day 1
DESCRIPTION:The I-49 Lafayette Connector Advisory Group (LCAG) will be meeting remotely for the first Workshop Session. \nThis is a committee working meeting\, but if members of the public would like to attend in a listen-only manner\, please email info@lafayetteconnector.com to request the Online Meeting access information.
URL:https://lafayetteconnector.com/event/lcag-workshop-1-part-1/
LOCATION:LA
CATEGORIES:Upcoming Events
END:VEVENT
BEGIN:VEVENT
DTSTART;TZID=America/North_Dakota/Center:20180209T150000
DTEND;TZID=America/North_Dakota/Center:20180209T170000
DTSTAMP:20260420T042324
CREATED:20180126T154618Z
LAST-MODIFIED:20181031T152007Z
UID:10000458-1518188400-1518195600@lafayetteconnector.com
SUMMARY:Executive Committee Meeting #10
DESCRIPTION:
URL:https://lafayetteconnector.com/event/executive-committee-meeting-10/
LOCATION:Rosa Parks Transportation Center\, 101 Jefferson Street\, Lafayette\, LA\, 70501\, United States
CATEGORIES:Upcoming Events
ATTACH;FMTTYPE=image/png:https://lafayetteconnector.com/wp-content/uploads/2017/10/EC-icon.png
GEO:30.2265078;-92.0150064
X-APPLE-STRUCTURED-LOCATION;VALUE=URI;X-ADDRESS=Rosa Parks Transportation Center 101 Jefferson Street Lafayette LA 70501 United States;X-APPLE-RADIUS=500;X-TITLE=101 Jefferson Street:geo:-92.0150064,30.2265078
END:VEVENT
BEGIN:VEVENT
DTSTART;TZID=America/North_Dakota/Center:20180201T093000
DTEND;TZID=America/North_Dakota/Center:20180201T113000
DTSTAMP:20260420T042324
CREATED:20180124T151744Z
LAST-MODIFIED:20240430T125650Z
UID:10000457-1517477400-1517484600@lafayetteconnector.com
SUMMARY:Technical Advisory Committee Meeting #16
DESCRIPTION:
URL:https://lafayetteconnector.com/event/technical-advisory-committee-meeting-16/
LOCATION:Rosa Parks Transportation Center\, 101 Jefferson Street\, Lafayette\, LA\, 70501\, United States
CATEGORIES:Upcoming Events
ATTACH;FMTTYPE=image/png:https://lafayetteconnector.com/wp-content/uploads/2017/09/event_icons-06-1-1.png
GEO:30.2265078;-92.0150064
X-APPLE-STRUCTURED-LOCATION;VALUE=URI;X-ADDRESS=Rosa Parks Transportation Center 101 Jefferson Street Lafayette LA 70501 United States;X-APPLE-RADIUS=500;X-TITLE=101 Jefferson Street:geo:-92.0150064,30.2265078
END:VEVENT
BEGIN:VEVENT
DTSTART;TZID=America/North_Dakota/Center:20180131T173000
DTEND;TZID=America/North_Dakota/Center:20180131T193000
DTSTAMP:20260420T042324
CREATED:20180124T151541Z
LAST-MODIFIED:20240430T125639Z
UID:10000456-1517419800-1517427000@lafayetteconnector.com
SUMMARY:Community Working Group Meeting #16
DESCRIPTION:
URL:https://lafayetteconnector.com/event/community-working-group-meeting-16/
LOCATION:Rosa Parks Transportation Center\, 101 Jefferson Street\, Lafayette\, LA\, 70501\, United States
CATEGORIES:Upcoming Events
ATTACH;FMTTYPE=image/png:https://lafayetteconnector.com/wp-content/uploads/2017/09/event_icons-05-1.png
GEO:30.2265078;-92.0150064
X-APPLE-STRUCTURED-LOCATION;VALUE=URI;X-ADDRESS=Rosa Parks Transportation Center 101 Jefferson Street Lafayette LA 70501 United States;X-APPLE-RADIUS=500;X-TITLE=101 Jefferson Street:geo:-92.0150064,30.2265078
END:VEVENT
BEGIN:VEVENT
DTSTART;TZID=America/North_Dakota/Center:20171027T140000
DTEND;TZID=America/North_Dakota/Center:20171027T160000
DTSTAMP:20260420T042324
CREATED:20171024T203803Z
LAST-MODIFIED:20240430T125629Z
UID:10000455-1509112800-1509120000@lafayetteconnector.com
SUMMARY:Executive Committee Meeting #9
DESCRIPTION:
URL:https://lafayetteconnector.com/event/executive-committee-meeting-9/
LOCATION:Rosa Parks Transportation Center\, 101 Jefferson Street\, Lafayette\, LA\, 70501\, United States
CATEGORIES:Upcoming Events
ATTACH;FMTTYPE=image/png:https://lafayetteconnector.com/wp-content/uploads/2017/10/EC-icon.png
GEO:30.2265078;-92.0150064
X-APPLE-STRUCTURED-LOCATION;VALUE=URI;X-ADDRESS=Rosa Parks Transportation Center 101 Jefferson Street Lafayette LA 70501 United States;X-APPLE-RADIUS=500;X-TITLE=101 Jefferson Street:geo:-92.0150064,30.2265078
END:VEVENT
BEGIN:VEVENT
DTSTART;TZID=America/North_Dakota/Center:20171019T160000
DTEND;TZID=America/North_Dakota/Center:20171019T200000
DTSTAMP:20260420T042324
CREATED:20171002T151441Z
LAST-MODIFIED:20240430T125618Z
UID:10000452-1508428800-1508443200@lafayetteconnector.com
SUMMARY:Open House Public Meeting with Moderated Session
DESCRIPTION:The Louisiana Department of Transportation and Development invites the community to attend a public meeting for the I-49 Lafayette Connector proposed end-to-end concept refinements. During the Open House portion\, attendees can learn more about the project and provide input in a self-paced setting. During the Moderated Session\, attendees will have the opportunity to make public statements. \nOpen House\n4:00-5:30 p.m. \nModerated Session\n5:30-8:00 p.m.
URL:https://lafayetteconnector.com/event/open-house-public-meeting-moderated-session/
LOCATION:Progressive Community Outreach Center\, 125 Gallian Street\, Lafayette\, LA\, 70501\, United States
ATTACH;FMTTYPE=image/jpeg:https://lafayetteconnector.com/wp-content/uploads/2016/04/event_icons-09.jpg
GEO:30.2272595;-91.9953304
X-APPLE-STRUCTURED-LOCATION;VALUE=URI;X-ADDRESS=Progressive Community Outreach Center 125 Gallian Street Lafayette LA 70501 United States;X-APPLE-RADIUS=500;X-TITLE=125 Gallian Street:geo:-91.9953304,30.2272595
END:VEVENT
BEGIN:VEVENT
DTSTART;TZID=America/North_Dakota/Center:20171019T103000
DTEND;TZID=America/North_Dakota/Center:20171019T123000
DTSTAMP:20260420T042324
CREATED:20171005T135257Z
LAST-MODIFIED:20240430T125609Z
UID:10000454-1508409000-1508416200@lafayetteconnector.com
SUMMARY:Technical Advisory Committee Meeting #15
DESCRIPTION:
URL:https://lafayetteconnector.com/event/technical-advisory-committee-meeting-15/
LOCATION:Rosa Parks Transportation Center\, 101 Jefferson Street\, Lafayette\, LA\, 70501\, United States
ATTACH;FMTTYPE=image/png:https://lafayetteconnector.com/wp-content/uploads/2017/06/event_icons-06-1.png
GEO:30.2265078;-92.0150064
X-APPLE-STRUCTURED-LOCATION;VALUE=URI;X-ADDRESS=Rosa Parks Transportation Center 101 Jefferson Street Lafayette LA 70501 United States;X-APPLE-RADIUS=500;X-TITLE=101 Jefferson Street:geo:-92.0150064,30.2265078
END:VEVENT
BEGIN:VEVENT
DTSTART;TZID=America/North_Dakota/Center:20171018T173000
DTEND;TZID=America/North_Dakota/Center:20171018T193000
DTSTAMP:20260420T042324
CREATED:20171005T135050Z
LAST-MODIFIED:20230316T223543Z
UID:10000453-1508347800-1508355000@lafayetteconnector.com
SUMMARY:Community Working Group Meeting #15
DESCRIPTION:
URL:https://lafayetteconnector.com/event/community-working-group-meeting-15/
LOCATION:Rosa Parks Transportation Center\, 101 Jefferson Street\, Lafayette\, LA\, 70501\, United States
ATTACH;FMTTYPE=image/png:https://lafayetteconnector.com/wp-content/uploads/2017/06/event_icons-05.png
GEO:30.2265078;-92.0150064
X-APPLE-STRUCTURED-LOCATION;VALUE=URI;X-ADDRESS=Rosa Parks Transportation Center 101 Jefferson Street Lafayette LA 70501 United States;X-APPLE-RADIUS=500;X-TITLE=101 Jefferson Street:geo:-92.0150064,30.2265078
END:VEVENT
BEGIN:VEVENT
DTSTART;TZID=America/Chicago:20170908T103000
DTEND;TZID=America/Chicago:20170908T123000
DTSTAMP:20260420T042324
CREATED:20170905T174232Z
LAST-MODIFIED:20230316T223451Z
UID:10000530-1504866600-1504873800@lafayetteconnector.com
SUMMARY:Technical Advisory Committee Meeting #14
DESCRIPTION:
URL:https://lafayetteconnector.com/event/technical-advisory-committee-meeting-14/
LOCATION:Rosa Parks Transportation Center\, 101 Jefferson Street\, Lafayette\, LA\, 70501\, United States
ATTACH;FMTTYPE=image/png:https://lafayetteconnector.com/wp-content/uploads/2017/09/event_icons-06-1-1.png
GEO:30.2265078;-92.0150064
X-APPLE-STRUCTURED-LOCATION;VALUE=URI;X-ADDRESS=Rosa Parks Transportation Center 101 Jefferson Street Lafayette LA 70501 United States;X-APPLE-RADIUS=500;X-TITLE=101 Jefferson Street:geo:-92.0150064,30.2265078
END:VEVENT
BEGIN:VEVENT
DTSTART;TZID=America/Chicago:20170907T173000
DTEND;TZID=America/Chicago:20170907T193000
DTSTAMP:20260420T042324
CREATED:20170905T173821Z
LAST-MODIFIED:20230316T223408Z
UID:10000529-1504805400-1504812600@lafayetteconnector.com
SUMMARY:Community Working Group Meeting #14
DESCRIPTION:
URL:https://lafayetteconnector.com/event/community-working-group-meeting-14/
LOCATION:Rosa Parks Transportation Center\, 101 Jefferson Street\, Lafayette\, LA\, 70501\, United States
CATEGORIES:Upcoming Events
ATTACH;FMTTYPE=image/png:https://lafayetteconnector.com/wp-content/uploads/2017/09/event_icons-05-1.png
GEO:30.2265078;-92.0150064
X-APPLE-STRUCTURED-LOCATION;VALUE=URI;X-ADDRESS=Rosa Parks Transportation Center 101 Jefferson Street Lafayette LA 70501 United States;X-APPLE-RADIUS=500;X-TITLE=101 Jefferson Street:geo:-92.0150064,30.2265078
END:VEVENT
BEGIN:VEVENT
DTSTART;TZID=America/North_Dakota/Center:20170713T093000
DTEND;TZID=America/North_Dakota/Center:20170713T113000
DTSTAMP:20260420T042324
CREATED:20170628T205004Z
LAST-MODIFIED:20240430T125516Z
UID:10000528-1499938200-1499945400@lafayetteconnector.com
SUMMARY:Technical Advisory Committee Meeting #13
DESCRIPTION:
URL:https://lafayetteconnector.com/event/technical-advisory-committee-meeting-13/
LOCATION:LA
ATTACH;FMTTYPE=image/png:https://lafayetteconnector.com/wp-content/uploads/2017/06/event_icons-06-1.png
END:VEVENT
BEGIN:VEVENT
DTSTART;TZID=America/Chicago:20170712T173000
DTEND;TZID=America/Chicago:20170712T193000
DTSTAMP:20260420T042324
CREATED:20170628T203601Z
LAST-MODIFIED:20230316T221903Z
UID:10000527-1499880600-1499887800@lafayetteconnector.com
SUMMARY:Community Working Group Meeting #13
DESCRIPTION:
URL:https://lafayetteconnector.com/event/community-working-group-meeting-13/
LOCATION:LA
ATTACH;FMTTYPE=image/png:https://lafayetteconnector.com/wp-content/uploads/2017/06/event_icons-05.png
END:VEVENT
BEGIN:VEVENT
DTSTART;TZID=America/North_Dakota/Center:20170331T140000
DTEND;TZID=America/North_Dakota/Center:20170331T160000
DTSTAMP:20260420T042324
CREATED:20170323T181804Z
LAST-MODIFIED:20240430T125501Z
UID:10000526-1490968800-1490976000@lafayetteconnector.com
SUMMARY:Executive Committee Meeting #8
DESCRIPTION:
URL:https://lafayetteconnector.com/event/executive-committee-meeting-8/
LOCATION:Rosa Parks Transportation Center\, 101 Jefferson Street\, Lafayette\, LA\, 70501\, United States
GEO:30.2265078;-92.0150064
X-APPLE-STRUCTURED-LOCATION;VALUE=URI;X-ADDRESS=Rosa Parks Transportation Center 101 Jefferson Street Lafayette LA 70501 United States;X-APPLE-RADIUS=500;X-TITLE=101 Jefferson Street:geo:-92.0150064,30.2265078
END:VEVENT
BEGIN:VEVENT
DTSTART;TZID=America/North_Dakota/Center:20170330T090000
DTEND;TZID=America/North_Dakota/Center:20170330T110000
DTSTAMP:20260420T042324
CREATED:20170323T181555Z
LAST-MODIFIED:20240430T125451Z
UID:10000525-1490864400-1490871600@lafayetteconnector.com
SUMMARY:Technical Advisory Committee Meeting #12
DESCRIPTION:
URL:https://lafayetteconnector.com/event/technical-advisory-meeting-12/
LOCATION:Rosa Parks Transportation Center\, 101 Jefferson Street\, Lafayette\, LA\, 70501\, United States
GEO:30.2265078;-92.0150064
X-APPLE-STRUCTURED-LOCATION;VALUE=URI;X-ADDRESS=Rosa Parks Transportation Center 101 Jefferson Street Lafayette LA 70501 United States;X-APPLE-RADIUS=500;X-TITLE=101 Jefferson Street:geo:-92.0150064,30.2265078
END:VEVENT
END:VCALENDAR